{"text_format":"1","workbook":"xlsx","n_sheets":1,"sheets":["Прайс"],"not_rendered":{"charts":0,"images":70,"macros":1,"external_links":1,"defined_names":1,"comments":0,"pivot_tables":0},"unopened":[],"bounds":{"document_bytes":16777216,"sheet_cells":100000,"rows_first":2000,"rows_last":500,"rows_between":2000,"halvings":0,"cell_chars":16384,"cell_head_chars":4096},"cells_cut":0,"cells_raw":0,"read":"whole","date_system":"1900"}

{"sheet":"Прайс","index":0,"n_rows":220,"n_cols":11,"rows_kept":220,"cut":false,"hidden":false,"merged":[[202,3,202,6],[203,3,203,6],[204,3,204,6],[205,3,205,6],[206,3,206,6],[197,3,197,6],[198,3,198,6],[199,3,199,6],[200,3,200,6],[201,3,201,6],[195,3,195,6],[196,3,196,6],[189,3,189,6],[190,3,190,6],[191,3,191,6],[192,3,192,6],[193,3,193,6],[194,3,194,6],[184,3,184,6],[185,3,185,6],[186,3,186,6],[187,3,187,6],[188,3,188,6],[32,0,43,0],[9,0,15,0],[16,0,31,0],[44,0,45,0],[80,0,81,0],[47,0,58,0],[61,0,63,0],[66,0,67,0],[68,0,69,0],[75,0,76,0],[77,0,78,0],[179,3,179,6],[180,3,180,6],[82,0,84,0],[85,0,86,0],[87,0,88,0],[89,0,90,0],[145,0,156,0],[96,0,99,0],[91,0,93,0],[100,0,105,0],[109,0,111,0],[112,0,113,0],[114,0,125,0],[126,0,127,0],[134,0,136,0],[138,0,139,0],[158,0,169,0],[171,0,206,0],[216,0,217,0],[208,0,215,0],[171,3,171,6],[208,1,209,1],[172,3,172,6],[173,3,173,6],[174,3,174,6],[175,3,175,6],[176,3,176,6],[181,3,181,6],[182,3,182,6],[183,3,183,6],[177,3,177,6],[178,3,178,6]]}
[]
[]
[]
[]
[]
[]
[]
["Фото товаров","Артикул","Номенклатура","Размеры упаковки,мм","Размеры короба,мм","Количество в коробе, шт","Количество коробов на паллете","Цена с НДС, руб/шт","Заказ,шт","Заказ сумма, руб с НДС"]
[null,null,"Showcase line"]
[null,"OSQ Tabox PRO 300*","Упаковка OSQ Tabox PRO 300 (600 шт./кор.)","100x80x40","240*310*455",600,30,{"$f":"INDEX('[1]Прайс Д0'!$H:$H,MATCH(C10,'[1]Прайс Д0'!$C:$C,0))*140%","v":5.7679999999999998},null,{"$f":"IF(I10*H10=0,\"\",I10*H10)","v":""}]
[null,"OSQ Tabox PRO 1000","Упаковка OSQ Tabox PRO 1000 (200 шт./кор.)","195х120x40","240*310*455",200,42,{"$f":"INDEX('[1]Прайс Д0'!$H:$H,MATCH(C11,'[1]Прайс Д0'!$C:$C,0))*140%","v":13.705999999999998},null,""]
[null,"OSQ Tabox PRO 1450","Упаковка OSQ Tabox PRO 1450 (125 шт./кор.)","260x150x40","240*310*455",125,42,{"$f":"INDEX('[1]Прайс Д0'!$H:$H,MATCH(C12,'[1]Прайс Д0'!$C:$C,0))*140%","v":19.725999999999999},null,""]
[null,"OSQ Tabox PRO 1500*","Упаковка OSQ Tabox PRO 1500 (175 шт./кор.)","200x200x45","240*310*455",175,40,{"$f":"INDEX('[1]Прайс Д0'!$H:$H,MATCH(C13,'[1]Прайс Д0'!$C:$C,0))*140%","v":19.053999999999998},null,""]
[null,"OSQ Tabox PRO 1555","Упаковка OSQ Tabox PRO 1555 (125 шт./кор.)","200x200x55","240*310*455",125,42,{"$f":"INDEX('[1]Прайс Д0'!$H:$H,MATCH(C14,'[1]Прайс Д0'!$C:$C,0))*140%","v":23.366},null,""]
[null,"OSQ Tabox PRO 500*","Упаковка OSQ Tabox PRO 500 (500 шт./кор.)","170x70x40","240*310*455",500,30,{"$f":"INDEX('[1]Прайс Д0'!$H:$H,MATCH(C15,'[1]Прайс Д0'!$C:$C,0))*140%","v":8.847999999999999},null,""]
[null,"OSQ Tabox PRO 2500","Упаковка OSQ Tabox PRO 2500 (250 шт./кор.)","260х260х40","380*275*550",250,24,{"$f":"INDEX('[1]Прайс Д0'!$H:$H,MATCH(C16,'[1]Прайс Д0'!$C:$C,0))*140%","v":28.629999999999995},null,""]
[null,"OSQ OpSalad 350 без крышки","Упаковка OSQ OpSalad 350 без крышки (900 шт./кор)","100/121x85/106x55","405*400*600",900,16,{"$f":"INDEX('[1]Прайс Д0'!$H:$H,MATCH(C17,'[1]Прайс Д0'!$C:$C,0))*140%","v":5.5439999999999996}]
[null,"Крышка OSQ OpSalad 350","Крышка OSQ OpSalad 350 (900 шт./кор)","132x120x13,5","405*400*600",900,16,{"$f":"INDEX('[1]Прайс Д0'!$H:$H,MATCH(C18,'[1]Прайс Д0'!$C:$C,0))*140%","v":3.7379999999999995},null,""]
[null,"OSQ OpSalad 400 без крышки","Упаковка OSQ OpSalad 400 без крышки (800 шт./кор)","120/145x85/96x45","405*400*600",800,20,{"$f":"INDEX('[1]Прайс Д0'!$H:$H,MATCH(C19,'[1]Прайс Д0'!$C:$C,0))*140%","v":4.9139999999999997},null,""]
[null,"Крышка OSQ OpSalad 400/450","Крышка OSQ OpSalad 400/450 (800 шт./кор)","110x155x13,5","460*405*600",800,16,{"$f":"INDEX('[1]Прайс Д0'!$H:$H,MATCH(C20,'[1]Прайс Д0'!$C:$C,0))*140%","v":3.9339999999999997},null,""]
[null,"OSQ OpSalad 450 без крышки","Упаковка OSQ OpSalad 450 без крышки (800 шт./кор.)","114/144x82/96x55","405*400*600",800,16,{"$f":"INDEX('[1]Прайс Д0'!$H:$H,MATCH(C21,'[1]Прайс Д0'!$C:$C,0))*140%","v":5.516},null,""]
[null,"Крышка OSQ OpSalad 400/450","Крышка OSQ OpSalad 400/450 (800 шт./кор)","110x155x13,5","460*405*600",800,16,{"$f":"INDEX('[1]Прайс Д0'!$H:$H,MATCH(C22,'[1]Прайс Д0'!$C:$C,0))*140%","v":3.9339999999999997},null,""]
[null,"OSQ OpSalad 500 без крышки","Упаковка OSQ OpSalad 500 без крышки (600 шт./кор.)","140/164x105/115x45","405*400*600",600,20,{"$f":"INDEX('[1]Прайс Д0'!$H:$H,MATCH(C23,'[1]Прайс Д0'!$C:$C,0))*140%","v":5.8660000000000005},null,""]
[null,"Крышка OSQ OpSalad 500","Крышка OSQ OpSalad 500 (600 шт./кор.)","130x175x13,5","460*405*600",600,16,{"$f":"INDEX('[1]Прайс Д0'!$H:$H,MATCH(C24,'[1]Прайс Д0'!$C:$C,0))*140%","v":5.4740000000000002},null,""]
[null,"OSQ OpSalad 800 без крышки","Упаковка OSQ OpSalad 800 без крышки (400 шт./кор.)","186/209x106/127x55","405*400*600",400,20,{"$f":"INDEX('[1]Прайс Д0'!$H:$H,MATCH(C25,'[1]Прайс Д0'!$C:$C,0))*140%","v":7.8679999999999994},null,""]
[null,"Крышка OSQ OpSalad 800","Крышка OSQ OpSalad 800 (400 шт./кор)","220x140x13,5","460*405*600",400,16,{"$f":"INDEX('[1]Прайс Д0'!$H:$H,MATCH(C26,'[1]Прайс Д0'!$C:$C,0))*140%","v":7.419999999999999},null,""]
[null,"OSQ OpSalad 900 без крышки","Упаковка OSQ OpSalad 900 без крышки (400 шт./кор)","135/150x135/150x48","405*400*600",400,20,{"$f":"INDEX('[1]Прайс Д0'!$H:$H,MATCH(C27,'[1]Прайс Д0'!$C:$C,0))*140%","v":8.5959999999999983},null,""]
[null,"Крышка OSQ OpSalad 900","Крышка OSQ OpSalad 900 (400 шт./кор)","163x163x13,5","460*405*600",400,16,{"$f":"INDEX('[1]Прайс Д0'!$H:$H,MATCH(C28,'[1]Прайс Д0'!$C:$C,0))*140%","v":8.161999999999999},null,""]
[null,"OSQ OpSalad 1000 без крышки","Упаковка OSQ OpSalad 1000 без крышки (300 шт./кор)","200/222x140/162x55","405*400*600",300,20,{"$f":"INDEX('[1]Прайс Д0'!$H:$H,MATCH(C29,'[1]Прайс Д0'!$C:$C,0))*140%","v":11.129999999999999},null,""]
[null,"Крышка OSQ OpSalad 1000","Крышка OSQ OpSalad 1000 (300 шт./кор)","234x174x13,5","460*405*600",300,16,{"$f":"INDEX('[1]Прайс Д0'!$H:$H,MATCH(C30,'[1]Прайс Д0'!$C:$C,0))*140%","v":10.107999999999999},null,""]
[null,"OSQ OpSalad 1200 без крышки","Упаковка OSQ OpSalad 1200 без крышки (300 шт./кор)","145/167x145/167x63","405*400*600",300,20,{"$f":"INDEX('[1]Прайс Д0'!$H:$H,MATCH(C31,'[1]Прайс Д0'!$C:$C,0))*140%","v":11.227999999999998},null,""]
[null,"Крышка OSQ OpSalad 1200","Крышка OSQ OpSalad 1200 (300 шт./кор)","178х178х13,5","460*405*600",300,16,{"$f":"INDEX('[1]Прайс Д0'!$H:$H,MATCH(C32,'[1]Прайс Д0'!$C:$C,0))*140%","v":10.457999999999998},null,""]
[null,"OSQ SmartPack 300 box","Упаковка OSQ SmartPack 300 box (300 шт./кор.)","86/100x86/100x40/49","380*275*550",300,24,{"$f":"INDEX('[1]Прайс Д0'!$H:$H,MATCH(C33,'[1]Прайс Д0'!$C:$C,0))*140%","v":9.1},null,{"$f":"IF(I33*H33=0,\"\",I33*H33)","v":""}]
[null,"Lid SmartPack 300 flat","Крышка плоская для упаковки OSQ SmartPack 300 (300 шт./кор)","114x114x13,5","405*400*600",300,20,{"$f":"INDEX('[1]Прайс Д0'!$H:$H,MATCH(C34,'[1]Прайс Д0'!$C:$C,0))*140%","v":3.9199999999999995},null,""]
[null,"Lid SmartPack 300 domе","Крышка купольная для упаковки OSQ SmartPack 300 (300 шт./кор)","114x114x56","405*400*600",300,20,{"$f":"INDEX('[1]Прайс Д0'!$H:$H,MATCH(C35,'[1]Прайс Д0'!$C:$C,0))*140%","v":7.839999999999999},null,""]
[null,"OSQ SmartPack 550 box","Упаковка OSQ SmartPack 550 box (450 шт./кор.)","114/130x114/130x40/49","405*400*600",450,20,{"$f":"INDEX('[1]Прайс Д0'!$H:$H,MATCH(C36,'[1]Прайс Д0'!$C:$C,0))*140%","v":10.513999999999999},null,""]
[null,"Lid SmartPack 550 flat","Крышка плоская для упаковки OSQ SmartPack 550 (450 шт./кор)","142x142x13,5","460х400х440",450,16,{"$f":"INDEX('[1]Прайс Д0'!$H:$H,MATCH(C37,'[1]Прайс Д0'!$C:$C,0))*140%","v":5.9220000000000006},null,""]
[null,"Lid SmartPack 550 domе","Крышка купольная для упаковки OSQ SmartPack 550 (450 шт./кор)","142x142x56","460х400х440",450,16,{"$f":"INDEX('[1]Прайс Д0'!$H:$H,MATCH(C38,'[1]Прайс Д0'!$C:$C,0))*140%","v":10.177999999999999},null,""]
[null,"OSQ SmartPack 800 box","Упаковка OSQ SmartPack 800 box (200 шт./кор.)","135/150x135/150x40/49","405*400*600",200,20,{"$f":"INDEX('[1]Прайс Д0'!$H:$H,MATCH(C39,'[1]Прайс Д0'!$C:$C,0))*140%","v":11.703999999999999},null,""]
[null,"Lid SmartPack 800 flat","Крышка плоская для упаковки OSQ SmartPack 800 (200 шт./кор)","163x163x13,5","405*400*600",200,20,{"$f":"INDEX('[1]Прайс Д0'!$H:$H,MATCH(C40,'[1]Прайс Д0'!$C:$C,0))*140%","v":8.5959999999999983},null,""]
[null,"Lid SmartPack 800 domе","Крышка купольная для упаковки OSQ SmartPack 800 (200 шт./кор)","163x163x56","405*400*600",200,20,{"$f":"INDEX('[1]Прайс Д0'!$H:$H,MATCH(C41,'[1]Прайс Д0'!$C:$C,0))*140%","v":13.972},null,""]
[null,"OSQ SmartPack 900 box","Упаковка OSQ SmartPack 900 box (200 шт./кор.)","150/165x150/165x40/49","405*400*600",200,20,{"$f":"INDEX('[1]Прайс Д0'!$H:$H,MATCH(C42,'[1]Прайс Д0'!$C:$C,0))*140%","v":13.482000000000001},null,""]
[null," Lid SmartPack 900 flat","Крышка плоская для упаковки OSQ SmartPack 900 (200 шт./кор)","178x178x13,5","405*400*600",200,20,{"$f":"INDEX('[1]Прайс Д0'!$H:$H,MATCH(C43,'[1]Прайс Д0'!$C:$C,0))*140%","v":10.233999999999998},null,""]
[null,"Lid SmartPack 900 domе","Крышка купольная для упаковки OSQ SmartPack 900 (200 шт./кор)","178x178x56","405*400*600",200,20,{"$f":"INDEX('[1]Прайс Д0'!$H:$H,MATCH(C44,'[1]Прайс Д0'!$C:$C,0))*140%","v":17.205999999999996},null,""]
[null,"OSQ SALAD 1000","Упаковка OSQ SALAD 1000 (250 шт./кор.)","170/190x130/150x50","405*400*600",250,20,{"$f":"INDEX('[1]Прайс Д0'!$H:$H,MATCH(C45,'[1]Прайс Д0'!$C:$C,0))*140%","v":13.747999999999999},null,""]
[null,"OSQ SALAD 600","Упаковка OSQ SALAD 600 (500 шт./кор.)","130/150x95/115x50","405*400*600",500,20,{"$f":"INDEX('[1]Прайс Д0'!$H:$H,MATCH(C46,'[1]Прайс Д0'!$C:$C,0))*140%","v":10.808},null,""]
[null,null,"Black Edition line"]
[null,"OSQ OpSalad 400 BE без крышки","Упаковка OSQ OpSalad 400 Black Edition без крышки (800 шт./кор.)","120/145x85/96x45","405*400*600",800,20,{"$f":"INDEX('[1]Прайс Д0'!$H:$H,MATCH(C48,'[1]Прайс Д0'!$C:$C,0))*140%","v":5.4039999999999999},null,""]
[null,"Крышка OSQ OpSalad 400/450","Крышка OSQ OpSalad 400/450 (800 шт./кор)","110x155x13,5","460*405*600",800,16,{"$f":"INDEX('[1]Прайс Д0'!$H:$H,MATCH(C49,'[1]Прайс Д0'!$C:$C,0))*140%","v":3.9339999999999997},null,""]
[null,"OSQ OpSalad 500 BE без крышки","Упаковка OSQ OpSalad 500 Black Edition без крышки (600 шт./кор.)","140/164x105/115x45","405*400*600",600,20,{"$f":"INDEX('[1]Прайс Д0'!$H:$H,MATCH(C50,'[1]Прайс Д0'!$C:$C,0))*140%","v":6.4539999999999997},null,""]
[null,"Крышка OSQ OpSalad 500","Крышка OSQ OpSalad 500 (600 шт./кор.)","130x175x13,5","460*405*600",600,16,{"$f":"INDEX('[1]Прайс Д0'!$H:$H,MATCH(C51,'[1]Прайс Д0'!$C:$C,0))*140%","v":5.4740000000000002},null,""]
[null,"OSQ OpSalad 800 BE без крышки","Упаковка OSQ OpSalad 800 Black Edition без крышки (400 шт./кор.)","186/209x106/127x55","405*400*600",400,20,{"$f":"INDEX('[1]Прайс Д0'!$H:$H,MATCH(C52,'[1]Прайс Д0'!$C:$C,0))*140%","v":8.6519999999999992},null,""]
[null,"Крышка OSQ OpSalad 800","Крышка OSQ OpSalad 800 (400 шт./кор)","220x140x13,5","460*405*600",400,16,{"$f":"INDEX('[1]Прайс Д0'!$H:$H,MATCH(C53,'[1]Прайс Д0'!$C:$C,0))*140%","v":7.419999999999999},null,""]
[null,"OSQ OpSalad 900 BE без крышки","Упаковка OSQ OpSalad 900 Black Edition без крышки (400 шт./кор.)","135/150x135/150x48","405*400*600",400,20,{"$f":"INDEX('[1]Прайс Д0'!$H:$H,MATCH(C54,'[1]Прайс Д0'!$C:$C,0))*140%","v":9.4639999999999986},null,""]
[null,"Крышка OSQ OpSalad 900","Крышка OSQ OpSalad 900 (400 шт./кор)","163x163x13,5","460*405*600",400,16,{"$f":"INDEX('[1]Прайс Д0'!$H:$H,MATCH(C55,'[1]Прайс Д0'!$C:$C,0))*140%","v":8.161999999999999},null,""]
[null,"OSQ OpSalad 1000 BE без крышки","Упаковка OSQ OpSalad 1000 Black Edition без крышки (300 шт./кор.)","200/222x140/162x55","405*400*600",300,20,{"$f":"INDEX('[1]Прайс Д0'!$H:$H,MATCH(C56,'[1]Прайс Д0'!$C:$C,0))*140%","v":12.235999999999999},null,""]
[null,"Крышка OSQ OpSalad 1000","Крышка OSQ OpSalad 1000 (300 шт./кор)","234x174x13,5","460*405*600",300,16,{"$f":"INDEX('[1]Прайс Д0'!$H:$H,MATCH(C57,'[1]Прайс Д0'!$C:$C,0))*140%","v":10.107999999999999},null,""]
[null,"OSQ OpSalad 1200 BE без крышки","Упаковка OSQ OpSalad 1200 Black Edition без крышки (300 шт./кор.)","145/167x145/167x63","405*400*600",300,20,{"$f":"INDEX('[1]Прайс Д0'!$H:$H,MATCH(C58,'[1]Прайс Д0'!$C:$C,0))*140%","v":12.347999999999999},null,""]
[null,"Крышка OSQ OpSalad 1200","Крышка OSQ OpSalad 1200 (300 шт./кор)","178х178х13,5","460*405*600",300,16,{"$f":"INDEX('[1]Прайс Д0'!$H:$H,MATCH(C59,'[1]Прайс Д0'!$C:$C,0))*140%","v":10.457999999999998},null,""]
[null,"OSQ PLATTER 400BE","Упаковка OSQ PLATTER 400 Black Edition (300 шт./кор.)","200/225x110/135x20","280*360*390",300,36,{"$f":"INDEX('[1]Прайс Д0'!$H:$H,MATCH(C60,'[1]Прайс Д0'!$C:$C,0))*140%","v":5.194},null,""]
[null,null,"Fast Food line"]
[null,"OSQ BURGER L","Упаковка OSQ BURGER L (150 шт./кор.)","123/132х123/142x70","240*310*455",150,54,{"$f":"INDEX('[1]Прайс Д0'!$H:$H,MATCH(C62,'[1]Прайс Д0'!$C:$C,0))*140%","v":7.3079999999999989},null,""]
[null,"OSQ BURGER M","Упаковка OSQ BURGER M (300 шт./кор.)","102/108x102/118х60","280*360*390",300,42,{"$f":"INDEX('[1]Прайс Д0'!$H:$H,MATCH(C63,'[1]Прайс Д0'!$C:$C,0))*140%","v":4.4799999999999995},null,""]
[null,"OSQ BURGER XL*","Упаковка OSQ BURGER XL (220 шт./кор.)","113/123x113/141х112","300*290*390",220,24,{"$f":"INDEX('[1]Прайс Д0'!$H:$H,MATCH(C64,'[1]Прайс Д0'!$C:$C,0))*140%","v":10.527999999999999},null,{"$f":"IF(I64*H64=0,\"\",I64*H64)","v":""}]
[null,"OSQ CONE L*","Упаковка OSQ CONE L (640 шт./кор.)","115*200/270","240*310*455",640,null,{"$f":"INDEX('[1]Прайс Д0'!$H:$H,MATCH(C65,'[1]Прайс Д0'!$C:$C,0))*140%","v":6.1179999999999994},null,{"$f":"IF(I65*H65=0,\"\",I65*H65)","v":""}]
[null,"OSQ Crepe Cone","Упаковка OSQ Crepe Cone (600 шт/кор.)","210х197х50","240*310*255",600,42,{"$f":"INDEX('[1]Прайс Д0'!$H:$H,MATCH(C66,'[1]Прайс Д0'!$C:$C,0))*140%","v":5.1239999999999997},null,{"$f":"IF(I66*H66=0,\"\",I66*H66)","v":""},"Новинка!"]
[null,"OSQ FAST FOOD BOX L","Упаковка OSQ Fast Food Box L (500 шт./кор.)","150x91x70","280*360*390",500,30,{"$f":"INDEX('[1]Прайс Д0'!$H:$H,MATCH(C67,'[1]Прайс Д0'!$C:$C,0))*140%","v":7},null,{"$f":"IF(I67*H67=0,\"\",I67*H67)","v":""}]
[null,"OSQ FAST FOOD BOX S","Упаковка OSQ Fast Food Box S (600 шт./кор.)","115x75x45","240*310*455",600,42,{"$f":"INDEX('[1]Прайс Д0'!$H:$H,MATCH(C68,'[1]Прайс Д0'!$C:$C,0))*140%","v":5.0259999999999998},null,""]
[null,"OSQ FRY L","Упаковка OSQ FRY L (1000 шт./кор.)","80/120х53х82/135","280*360*390",1000,30,{"$f":"INDEX('[1]Прайс Д0'!$H:$H,MATCH(C69,'[1]Прайс Д0'!$C:$C,0))*140%","v":3.7939999999999996},null,{"$f":"IF(I69*H69=0,\"\",I69*H69)","v":""}]
[null,"OSQ FRY M","Упаковка OSQ FRY M (1200 шт./кор.)","80/110х54х68/111","240*310*455",1200,36,{"$f":"INDEX('[1]Прайс Д0'!$H:$H,MATCH(C70,'[1]Прайс Д0'!$C:$C,0))*140%","v":3.4020000000000001},null,""]
[null,"OSQ HD","Упаковка OSQ HD noL (800 шт./кор.)","167/182x70/85x38","405*400*600",800,20,{"$f":"INDEX('[1]Прайс Д0'!$H:$H,MATCH(C71,'[1]Прайс Д0'!$C:$C,0))*140%","v":3.6959999999999997},null,""]
[null,"OSQ HD Box","Упаковка OSQ HD Box (400 шт./кор.)","215х75х40","405*400*600",400,20,{"$f":"INDEX('[1]Прайс Д0'!$H:$H,MATCH(C72,'[1]Прайс Д0'!$C:$C,0))*140%","v":10.023999999999999},null,"","Новинка!"]
[null,"OSQ PIT STOP Tray","Упаковка OSQ PIT STOP Tray (900 шт./кор.)","225/170х69х40","220х300х445",900,null,{"$f":"INDEX('[1]Прайс Д0'!$H:$H,MATCH(C73,'[1]Прайс Д0'!$C:$C,0))*140%","v":3.6539999999999995},null,"","Новинка!"]
[null,"OSQ PIE","Упаковка OSQ PIE (600 шт./кор.)","224x224x200","280*360*390",600,30,{"$f":"INDEX('[1]Прайс Д0'!$H:$H,MATCH(C74,'[1]Прайс Д0'!$C:$C,0))*140%","v":8.218},null,""]
[null,"OSQ PILLOW","Упаковка OSQ PILLOW (600 шт./кор.)","200x70x55","240*310*455",600,42,{"$f":"INDEX('[1]Прайс Д0'!$H:$H,MATCH(C75,'[1]Прайс Д0'!$C:$C,0))*140%","v":5.3759999999999994},null,""]
[null,"OSQ Snack Cup L","Упаковка OSQ Snack Cup L (800 шт./кор.)","61/80x61/80x90/129","280*360*390",800,30,{"$f":"INDEX('[1]Прайс Д0'!$H:$H,MATCH(C76,'[1]Прайс Д0'!$C:$C,0))*140%","v":7.0839999999999987},null,""]
[null,"OSQ Snack Cup M","Упаковка OSQ Snack Cup M (900 шт./кор.)","53/70х53/70x112","240*310*455",900,36,{"$f":"INDEX('[1]Прайс Д0'!$H:$H,MATCH(C77,'[1]Прайс Д0'!$C:$C,0))*140%","v":5.7119999999999997},null,""]
[null,"OSQ TRAY 550 ","Упаковка OSQ TRAY 550 noL (300 шт./кор.)","110/140х110/140х42","240*310*455",300,42,{"$f":"INDEX('[1]Прайс Д0'!$H:$H,MATCH(C78,'[1]Прайс Д0'!$C:$C,0))*140%","v":4.1859999999999999},null,""]
[null,"OSQ TRAY 800","Упаковка OSQ TRAY 800 noL (400 шт./кор.)","190/220х85/115х45","380*275*550",400,24,{"$f":"INDEX('[1]Прайс Д0'!$H:$H,MATCH(C79,'[1]Прайс Д0'!$C:$C,0))*140%","v":5.194},null,""]
[null,null,"Ready to go line"]
[null,"OSQ FOLD BOX 600","Упаковка OSQ FOLD BOX 600 (450 шт./кор.)","113/130x90/105x64","405*400*600",450,20,{"$f":"INDEX('[1]Прайс Д0'!$H:$H,MATCH(C81,'[1]Прайс Д0'!$C:$C,0))*140%","v":8.0220000000000002},null,""]
[null,"OSQ FOLD BOX 900","Упаковка OSQ FOLD BOX 900 (240 шт./кор.)","151/166x115/132x53","405*400*600",240,20,{"$f":"INDEX('[1]Прайс Д0'!$H:$H,MATCH(C82,'[1]Прайс Д0'!$C:$C,0))*140%","v":11.284000000000001},null,{"$f":"IF(I82*H82=0,\"\",I82*H82)","v":""}]
[null,"OSQ Meal Box S","Упаковка OSQ Meal Box S (450 шт/кор)","100/118*100/118*65","405*400*600",450,20,{"$f":"INDEX('[1]Прайс Д0'!$H:$H,MATCH(C83,'[1]Прайс Д0'!$C:$C,0))*140%","v":7.2239999999999993},null,""]
[null,"OSQ Meal Box M","Упаковка OSQ Meal Box M (240 шт/кор)","130/145*130/145*55","405*400*600",240,20,{"$f":"INDEX('[1]Прайс Д0'!$H:$H,MATCH(C84,'[1]Прайс Д0'!$C:$C,0))*140%","v":10.164},null,""]
[null,"OSQ Meal Box L","Упаковка OSQ Meal Box L (200 шт/кор)","150/165*150/165*55","405*400*600",200,20,{"$f":"INDEX('[1]Прайс Д0'!$H:$H,MATCH(C85,'[1]Прайс Д0'!$C:$C,0))*140%","v":12.04},null,""]
[null,"OSQ LUNCH 600","Упаковка OSQ LUNCH 600 (500 шт./кор.)","130/150x95/115x50","405*400*600",500,20,{"$f":"INDEX('[1]Прайс Д0'!$H:$H,MATCH(C86,'[1]Прайс Д0'!$C:$C,0))*140%","v":8.9879999999999995},null,{"$f":"IF(I86*H86=0,\"\",I86*H86)","v":""}]
[null,"OSQ LUNCH 1000","Упаковка OSQ LUNCH 1000 (250 шт./кор.)","170/190x130/150x50","405*400*600",250,20,{"$f":"INDEX('[1]Прайс Д0'!$H:$H,MATCH(C87,'[1]Прайс Д0'!$C:$C,0))*140%","v":13.286},null,""]
[null,"OSQ Lunch L","Упаковка OSQ Lunch L ( 250 шт./кор.)","170/190*130/150*50","405*400*600",250,20,{"$f":"INDEX('[1]Прайс Д0'!$H:$H,MATCH(C88,'[1]Прайс Д0'!$C:$C,0))*140%","v":12.6},null,""]
[null,"OSQ Lunch M","Упаковка OSQ Lunch M ( 500 шт./кор.)","130/150*95/115*50","405*400*600",500,20,{"$f":"INDEX('[1]Прайс Д0'!$H:$H,MATCH(C89,'[1]Прайс Д0'!$C:$C,0))*140%","v":7.6439999999999992},null,{"$f":"IF(I89*H89=0,\"\",I89*H89)","v":""}]
[null,"OSQ NOODLES 560 gl","Упаковка OSQ NOODLES 560 gl (420 шт./кор.)","76/96х76/96х101","405*400*600",420,16,{"$f":"INDEX('[1]Прайс Д0'!$H:$H,MATCH(C90,'[1]Прайс Д0'!$C:$C,0))*140%","v":11.087999999999999},null,""]
[null,"OSQ NOODLES 700 gl","Упаковка OSQ NOODLES 700 gl (360 шт./кор.)","81/102х81/102х108","405*400*600",360,16,{"$f":"INDEX('[1]Прайс Д0'!$H:$H,MATCH(C91,'[1]Прайс Д0'!$C:$C,0))*140%","v":11.129999999999999},null,""]
[null,"OSQ Noodles L","Упаковка OSQ Noodles L (420 шт/кор)","66/90*80/104*102","405*400*600",420,16,{"$f":"INDEX('[1]Прайс Д0'!$H:$H,MATCH(C92,'[1]Прайс Д0'!$C:$C,0))*140%","v":9.4359999999999999},null,""]
[null,"OSQ Noodles M","Упаковка OSQ Noodles M (480 шт/кор)","70/90*70/90*90","405*400*600",480,16,{"$f":"INDEX('[1]Прайс Д0'!$H:$H,MATCH(C93,'[1]Прайс Д0'!$C:$C,0))*140%","v":7.8679999999999994},null,""]
[null,"OSQ Noodles XL","Упаковка OSQ Noodles XL (360 шт/кор)","81/103*81/103*104","405*400*600",360,16,{"$f":"INDEX('[1]Прайс Д0'!$H:$H,MATCH(C94,'[1]Прайс Д0'!$C:$C,0))*140%","v":10.01},null,""]
[null,null,"Sandwich line"]
[null,"OSQ ROLL","Упаковка OSQ ROLL (500 шт./кор.)","90x50x130x95","240*310*455",500,42,{"$f":"INDEX('[1]Прайс Д0'!$H:$H,MATCH(C96,'[1]Прайс Д0'!$C:$C,0))*140%","v":6.9579999999999993},null,{"$f":"IF(I96*H96=0,\"\",I96*H96)","v":""}]
[null,"OSQ SANDWICH 40","Упаковка OSQ SANDWICH 40 (600 шт./кор.)","126x126x41","280*360*390",600,30,{"$f":"INDEX('[1]Прайс Д0'!$H:$H,MATCH(C97,'[1]Прайс Д0'!$C:$C,0))*140%","v":6.2299999999999995},null,""]
[null,"OSQ SANDWICH 50","Упаковка OSQ SANDWICH 50 (600 шт./кор.)","131x131x51","280*360*390",600,30,{"$f":"INDEX('[1]Прайс Д0'!$H:$H,MATCH(C98,'[1]Прайс Д0'!$C:$C,0))*140%","v":7.0419999999999998},null,""]
[null,"OSQ SANDWICH 60","Упаковка OSQ SANDWICH 60 (800 шт./кор.)","126x126x61","380*275*550",800,30,{"$f":"INDEX('[1]Прайс Д0'!$H:$H,MATCH(C99,'[1]Прайс Д0'!$C:$C,0))*140%","v":7.895999999999999},null,""]
[null,"OSQ SANDWICH 70","Упаковка OSQ SANDWICH 70 (500 шт./кор.)","126x126x71","280*360*390",500,30,{"$f":"INDEX('[1]Прайс Д0'!$H:$H,MATCH(C100,'[1]Прайс Д0'!$C:$C,0))*140%","v":9.7720000000000002},null,""]
[null,"OSQ Single decker 40","Упаковка OSQ Single decker (600 шт./кор)","127x127x40","240*310*455",600,42,{"$f":"INDEX('[1]Прайс Д0'!$H:$H,MATCH(C101,'[1]Прайс Д0'!$C:$C,0))*140%","v":5.88},null,""]
[null,"OSQ Double decker 55","Упаковка OSQ Double decker (600 шт./кор)","127x127x55","240*310*455",600,42,{"$f":"INDEX('[1]Прайс Д0'!$H:$H,MATCH(C102,'[1]Прайс Д0'!$C:$C,0))*140%","v":7.0419999999999998},null,""]
[null,"OSQ Triple decker 65","Упаковка OSQ Triple decker (800 шт./кор)","127x127x65","280*360*390",800,30,{"$f":"INDEX('[1]Прайс Д0'!$H:$H,MATCH(C103,'[1]Прайс Д0'!$C:$C,0))*140%","v":7.895999999999999},null,""]
[null,"OSQ Decker 40","Упаковка OSQ Decker 40 (600 шт./кор.)","127x127x40","220*300*455",600,42,{"$f":"INDEX('[1]Прайс Д0'!$H:$H,MATCH(C104,'[1]Прайс Д0'!$C:$C,0))*140%","v":5.88},null,""]
[null,"OSQ Decker 55","Упаковка OSQ Decker 55 (800 шт./кор.)","127x127x55","265*350*380",800,null,{"$f":"INDEX('[1]Прайс Д0'!$H:$H,MATCH(C105,'[1]Прайс Д0'!$C:$C,0))*140%","v":7.0419999999999998},null,""]
[null,"OSQ Decker 65","Упаковка OSQ Decker 65 (650 шт./кор.)","127x127x65","220*300*455",650,42,{"$f":"INDEX('[1]Прайс Д0'!$H:$H,MATCH(C106,'[1]Прайс Д0'!$C:$C,0))*140%","v":7.895999999999999},null,{"$f":"IF(I106*H106=0,\"\",I106*H106)","v":""}]
[null,"OSQ Baguette box 260","Упаковка OSQ Baguette box (250 шт/кор)","260х80х60","280*360*390",250,30,{"$f":"INDEX('[1]Прайс Д0'!$H:$H,MATCH(C107,'[1]Прайс Д0'!$C:$C,0))*140%","v":19.936},null,{"$f":"IF(I107*H107=0,\"\",I107*H107)","v":""}]
[null,"OSQ Square Cut sandwich box","Упаковка OSQ Square Cut sandwich box (300 шт./кор.)","125х100х70","240*310*455",300,36,{"$f":"INDEX('[1]Прайс Д0'!$H:$H,MATCH(C108,'[1]Прайс Д0'!$C:$C,0))*140%","v":15.217999999999998},null,""]
[null,null,"Bakery line"]
[null,"OSQ CAKE 1200","Упаковка OSQ CAKE 1200 (250 шт./кор.)","150x100x85","240*310*455",250,42,{"$f":"INDEX('[1]Прайс Д0'!$H:$H,MATCH(C110,'[1]Прайс Д0'!$C:$C,0))*140%","v":11.69},null,""]
[null,"OSQ CAKE 1900","Упаковка OSQ CAKE 1900 (300 шт./кор.)","230x140x60","380*275*550",300,24,{"$f":"INDEX('[1]Прайс Д0'!$H:$H,MATCH(C111,'[1]Прайс Д0'!$C:$C,0))*140%","v":13.565999999999999},null,""]
[null,"OSQ CAKE 6000","Упаковка OSQ CAKE 6000 K (75 шт./кор.)","255x255x105","280*360*390",75,30,{"$f":"INDEX('[1]Прайс Д0'!$H:$H,MATCH(C112,'[1]Прайс Д0'!$C:$C,0))*140%","v":33.74},null,""]
[null,"OSQ MB 12","Упаковка OSQ MB 12 (300 шт./кор.)","180x107x55","280*360*390",300,30,{"$f":"INDEX('[1]Прайс Д0'!$H:$H,MATCH(C113,'[1]Прайс Д0'!$C:$C,0))*140%","v":17.934000000000001},null,""]
[null,"OSQ MB 6","Упаковка OSQ MB 6 (500 шт./кор.)","180x55x55","280*360*390",500,30,{"$f":"INDEX('[1]Прайс Д0'!$H:$H,MATCH(C114,'[1]Прайс Д0'!$C:$C,0))*140%","v":12.753999999999998},null,""]
[null,"OSQ MUF 1","Упаковка OSQ MUF 1 ( 250 шт./кор.) - коробка","100x100x100","280*360*390",250,30,{"$f":"INDEX('[1]Прайс Д0'!$H:$H,MATCH(C115,'[1]Прайс Д0'!$C:$C,0))*140%","v":19.858124999999998},null,""]
[null,null,"Упаковка OSQ MUF 1 (250 шт./кор.) - ложемент",null,null,null,null,{"$f":"INDEX('[1]Прайс Д0'!$H:$H,MATCH(C116,'[1]Прайс Д0'!$C:$C,0))*140%","v":0},null,""]
[null,"OSQ MUF 12","Упаковка OSQ MUF 12 (100 шт./кор.) - коробка","330x250x100","380*275*550",100,24,{"$f":"INDEX('[1]Прайс Д0'!$H:$H,MATCH(C117,'[1]Прайс Д0'!$C:$C,0))*140%","v":54.147974999999995},null,""]
[null,null,"Упаковка OSQ MUF 12 (100 шт./кор.) - ложемент",null,null,null,null,{"$f":"INDEX('[1]Прайс Д0'!$H:$H,MATCH(C118,'[1]Прайс Д0'!$C:$C,0))*140%","v":0},null,""]
[null,"OSQ MUF 2","Упаковка OSQ MUF 2 ( 200 шт./кор.) - коробка","160x100x100","280*360*390",200,30,{"$f":"INDEX('[1]Прайс Д0'!$H:$H,MATCH(C119,'[1]Прайс Д0'!$C:$C,0))*140%","v":26.114549999999998},null,""]
[null,null,"Упаковка OSQMUF 2 (200 шт./кор.)  - ложемент",null,null,null,null,{"$f":"INDEX('[1]Прайс Д0'!$H:$H,MATCH(C120,'[1]Прайс Д0'!$C:$C,0))*140%","v":0},null,""]
[null,"OSQ MUF 4","Упаковка OSQ MUF 4 ( 150 шт./кор.) - коробка","160x160x100","280*360*390",150,30,{"$f":"INDEX('[1]Прайс Д0'!$H:$H,MATCH(C121,'[1]Прайс Д0'!$C:$C,0))*140%","v":31.103624999999994},null,""]
[null,null,"Упаковка OSQ MUF 4 (150 шт./кор.)  - ложемент",null,null,null,null,{"$f":"INDEX('[1]Прайс Д0'!$H:$H,MATCH(C122,'[1]Прайс Д0'!$C:$C,0))*140%","v":0},null,""]
[null,"OSQ MUF 6","Упаковка OSQ MUF 6 (150 шт./кор.)  - коробка","250x170x100","380*275*550",150,24,{"$f":"INDEX('[1]Прайс Д0'!$H:$H,MATCH(C123,'[1]Прайс Д0'!$C:$C,0))*140%","v":36.003450000000001},null,""]
[null,null,"Упаковка OSQ MUF 6 (150 шт./кор.)  - ложемент",null,null,null,null,{"$f":"INDEX('[1]Прайс Д0'!$H:$H,MATCH(C124,'[1]Прайс Д0'!$C:$C,0))*140%","v":0},null,""]
[null,"OSQ MUF 9","Упаковка OSQ MUF 9 ( 100 шт./кор.) - коробка","250x250x100","380*275*550",100,24,{"$f":"INDEX('[1]Прайс Д0'!$H:$H,MATCH(C125,'[1]Прайс Д0'!$C:$C,0))*140%","v":47.195399999999992},null,""]
[null,null,"Упаковка OSQ MUF 9 (100 шт./кор.)  - ложемент",null,null,null,null,{"$f":"INDEX('[1]Прайс Д0'!$H:$H,MATCH(C126,'[1]Прайс Д0'!$C:$C,0))*140%","v":0},null,""]
[null,"OSQ Sweet show box","Упаковка OSQ Sweet show box (300 шт./кор.)","200х80х60","280*360*390",300,30,{"$f":"INDEX('[1]Прайс Д0'!$H:$H,MATCH(C127,'[1]Прайс Д0'!$C:$C,0))*140%","v":17.317999999999998},null,""]
[null,"OSQ Solo show box","Упаковка OSQ Solo show box (250 шт./кор.)","130х110х80","280*360*390",250,30,{"$f":"INDEX('[1]Прайс Д0'!$H:$H,MATCH(C128,'[1]Прайс Д0'!$C:$C,0))*140%","v":17.317999999999998},null,{"$f":"IF(I128*H128=0,\"\",I128*H128)","v":""}]
[null,null,"Coffee line"]
[null,"OSQ CUP KEEPER / TL","Манжет для стакана OSQ CUP KEEPER /TL (900 шт./кор.)","270x55","280*360*390",900,30,{"$f":"INDEX('[1]Прайс Д0'!$H:$H,MATCH(C130,'[1]Прайс Д0'!$C:$C,0))*140%","v":2.52},null,{"$f":"IF(I130*H130=0,\"\",I130*H130)","v":""}]
[null,"OSQ CUPHOLDER","Держатель для стаканов OSQ CUPHOLDER (350 шт./кор.)","180x80x70","240*310*455",350,42,{"$f":"INDEX('[1]Прайс Д0'!$H:$H,MATCH(C131,'[1]Прайс Д0'!$C:$C,0))*140%","v":7.5179999999999998},null,""]
[null,null,"Retail line"]
[null,"OSQ PLATTER 400","Упаковка OSQ PLATTER 400 (300 шт./кор.)","200/225x110/135x20","280*360*390",300,36,{"$f":"INDEX('[1]Прайс Д0'!$H:$H,MATCH(C133,'[1]Прайс Д0'!$C:$C,0))*140%","v":4.6479999999999997},null,""]
[null,"OSQ Tea Box","Упаковка OSQ Tea Box (550 шт./кор.)","182/110х92х50","220х300х445",550,null,{"$f":"INDEX('[1]Прайс Д0'!$H:$H,MATCH(C134,'[1]Прайс Д0'!$C:$C,0))*140%","v":7.6859999999999999},null,{"$f":"IF(I134*H134=0,\"\",I134*H134)","v":""},"Новинка!"]
[null,"SealPack 1000","Упаковка OSQ SealPack 1000 K (350 шт./кор.)","180/227х128/178х42","405*400*600",350,20,{"$f":"INDEX('[1]Прайс Д0'!$H:$H,MATCH(C135,'[1]Прайс Д0'!$C:$C,0))*140%","v":7.6019999999999994},null,""]
[null,"SealPack 350","Упаковка OSQ SealPack 350 (300 шт./кор.)","86/135х86/135х42","240*310*455",300,42,{"$f":"INDEX('[1]Прайс Д0'!$H:$H,MATCH(C136,'[1]Прайс Д0'!$C:$C,0))*140%","v":4.34},null,{"$f":"IF(I136*H136=0,\"\",I136*H136)","v":""}]
[null,"SealPack 500","Упаковка OSQ SealPack 500 (800 шт./кор.)","139/187х89/137х42","405*400*600",800,16,{"$f":"INDEX('[1]Прайс Д0'!$H:$H,MATCH(C137,'[1]Прайс Д0'!$C:$C,0))*140%","v":5.2359999999999998},null,""]
[null,null,"Tableware line"]
[null,"OSQ PLATE 180","Тарелка OSQ PLATE 180 WB (100/900 шт.)","d180","240*310*455",900,42,{"$f":"INDEX('[1]Прайс Д0'!$H:$H,MATCH(C139,'[1]Прайс Д0'!$C:$C,0))*140%","v":3.0379999999999998},null,{"$f":"IF(I139*H139=0,\"\",I139*H139)","v":""}]
[null,"OSQ PLATE 230","Тарелка OSQ PLATE 230 WB (100/600 шт.)","d230","240*310*455",600,42,{"$f":"INDEX('[1]Прайс Д0'!$H:$H,MATCH(C140,'[1]Прайс Д0'!$C:$C,0))*140%","v":4.452},null,{"$f":"IF(I140*H140=0,\"\",I140*H140)","v":""}]
[null,"OSQ POCKET E","Упаковка OSQ POCKET E (2250 шт./кор.)","180x60","280*360*390",2250,30,{"$f":"INDEX('[1]Прайс Д0'!$H:$H,MATCH(C141,'[1]Прайс Д0'!$C:$C,0))*140%","v":2.8699999999999997},null,""]
[null,null,"Packaging line"]
[null,"OSQ BOX WITH HANDLE","Упаковка OSQ BOX WITH HANDLE (200 шт./кор.)","290x143x98","380*275*550",200,24,{"$f":"INDEX('[1]Прайс Д0'!$H:$H,MATCH(C143,'[1]Прайс Д0'!$C:$C,0))*140%","v":24.359999999999996},null,{"$f":"IF(I143*H143=0,\"\",I143*H143)","v":""}]
[null,"OSQ BOX WHM*","Упаковка OSQ BOX WITH HANDLE M (225 шт./кор.)","225х120х110","265*350*380",225,null,{"$f":"INDEX('[1]Прайс Д0'!$H:$H,MATCH(C144,'[1]Прайс Д0'!$C:$C,0))*140%","v":20.72},null,{"$f":"IF(I144*H144=0,\"\",I144*H144)","v":""},"Новинка!"]
[null,null,"Round line"]
[null,"OSQ Round Bowl 300","Круглый контейнер OSQ Round Bowl 300 (375 шт./кор.)","80/100х65","520*320*365",375,20,{"$f":"INDEX('[1]Прайс Д0'!$H:$H,MATCH(C146,'[1]Прайс Д0'!$C:$C,0))*140%","v":4.508},null,{"$f":"IF(I146*H146=0,\"\",I146*H146)","v":""}]
[null,"OSQ Round Bowl 400","Круглый контейнер OSQ Round Bowl 400 (375 шт./кор.)","77/100х85","520*320*365",375,20,{"$f":"INDEX('[1]Прайс Д0'!$H:$H,MATCH(C147,'[1]Прайс Д0'!$C:$C,0))*140%","v":5.4180000000000001},null,{"$f":"IF(I147*H147=0,\"\",I147*H147)","v":""}]
[null,"OSQ Round Bowl 500","Круглый контейнер OSQ Round Bowl 500 (450 шт./кор.)","89/100x95","415*350*560",450,null,{"$f":"INDEX('[1]Прайс Д0'!$H:$H,MATCH(C148,'[1]Прайс Д0'!$C:$C,0))*140%","v":6.4959999999999996}]
[null,"OSQ Round Bowl 700","Круглый контейнер OSQ Round Bowl 700 (525 шт./кор.)","89/116x108","420*390*590",525,null,{"$f":"INDEX('[1]Прайс Д0'!$H:$H,MATCH(C149,'[1]Прайс Д0'!$C:$C,0))*140%","v":7.7839999999999989},null,""]
[null,"OSQ Round Bowl kraft lid","Крышка OSQ Round Bowl kraft lid (450 шт./кор.)","18х100","530*320*405",450,24,{"$f":"INDEX('[1]Прайс Д0'!$H:$H,MATCH(C150,'[1]Прайс Д0'!$C:$C,0))*140%","v":4.9559999999999995},null,""]
[null,"OSQ Round Bowl PP lid 100","Крышка OSQ Round Bowl PP lid 100 (450 шт./кор.)","11x105","290*375*565",450,null,{"$f":"INDEX('[1]Прайс Д0'!$H:$H,MATCH(C151,'[1]Прайс Д0'!$C:$C,0))*140%","v":4.13},null,""]
[null,"OSQ Round Bowl 700 kraft lid","Крафтовая крышка OSQ Round Bowl 700 kraft lid (525 шт./кор.)","15x118","420*390*590",525,null,{"$f":"INDEX('[1]Прайс Д0'!$H:$H,MATCH(C152,'[1]Прайс Д0'!$C:$C,0))*140%","v":5.9499999999999993},null,""]
[null,"OSQ Round Bowl 1000","Круглый контейнер OSQ Round Bowl 1000 (270 шт/кор)","128/148x76","475*325*460",270,20,{"$f":"INDEX('[1]Прайс Д0'!$H:$H,MATCH(C153,'[1]Прайс Д0'!$C:$C,0))*140%","v":8.19},null,{"$f":"IF(I153*H153=0,\"\",I153*H153)","v":""}]
[null,"OSQ Round Bowl 750","Круглый контейнер OSQ Round Bowl 750 (270 шт./кор.)","128/148x60","475*325*460",270,20,{"$f":"INDEX('[1]Прайс Д0'!$H:$H,MATCH(C154,'[1]Прайс Д0'!$C:$C,0))*140%","v":7.2239999999999993},null,""]
[null,"OSQ Round Bowl 1300","Круглый контейнер OSQ Round Bowl 1300 (210 шт./кор.)","160/185x70","420*390*590",210,null,{"$f":"INDEX('[1]Прайс Д0'!$H:$H,MATCH(C155,'[1]Прайс Д0'!$C:$C,0))*140%","v":9.8279999999999994},null,""]
[null,"OSQ Round Bowl dome lid","Крышка OSQ Round Bowl dome lid (270 шт./кор.)","150/154х38","500*405*310",270,24,{"$f":"INDEX('[1]Прайс Д0'!$H:$H,MATCH(C156,'[1]Прайс Д0'!$C:$C,0))*140%","v":7.7559999999999993},null,""]
[null,"OSQ Round Bowl flat lid","Крышка OSQ Round Bowl flat lid (270 шт./кор.)","128/154х10","500*405*310",270,24,{"$f":"INDEX('[1]Прайс Д0'!$H:$H,MATCH(C157,'[1]Прайс Д0'!$C:$C,0))*140%","v":6.7480000000000002},null,""]
[null,null,"Pure Kraft line"]
[null,"O2 BURGER L Pure Kraft","Упаковка O2 BURGER L Pure Kraft (150 шт./кор.)","123/132х123/142x70","240*310*455",150,54,{"$f":"INDEX('[1]Прайс Д0'!$H:$H,MATCH(C159,'[1]Прайс Д0'!$C:$C,0))*140%","v":5.39},null,{"$f":"IF(I159*H159=0,\"\",I159*H159)","v":""}]
[null,"O2 BURGER M Pure Kraft","Упаковка O2 BURGER M Pure Kraft (300 шт./кор.)","102/108x102/118х60","280*360*390",300,42,{"$f":"INDEX('[1]Прайс Д0'!$H:$H,MATCH(C160,'[1]Прайс Д0'!$C:$C,0))*140%","v":4.34},null,{"$f":"IF(I160*H160=0,\"\",I160*H160)","v":""}]
[null,"O2 FAST FOOD BOX L Pure Kraft","Упаковка O2 FAST FOOD BOX L Pure Kraft (500 шт./кор.)","150x91x70","280*360*390",500,30,{"$f":"INDEX('[1]Прайс Д0'!$H:$H,MATCH(C161,'[1]Прайс Д0'!$C:$C,0))*140%","v":5.6},null,""]
[null,"O2 FAST FOOD BOX S Pure Kraft","Упаковка O2 FAST FOOD BOX S Pure Kraft (600 шт./кор.)","115x75x45","240*310*455",600,42,{"$f":"INDEX('[1]Прайс Д0'!$H:$H,MATCH(C162,'[1]Прайс Д0'!$C:$C,0))*140%","v":4.1999999999999993},null,""]
[null,"O2 FRY L Pure Kraft","Упаковка O2 FRY L Pure Kraft (1000 шт./кор.)","80/120х53х82/135","280*360*390",1000,30,{"$f":"INDEX('[1]Прайс Д0'!$H:$H,MATCH(C163,'[1]Прайс Д0'!$C:$C,0))*140%","v":3.4860000000000002},null,""]
[null,"O2 FRY M Pure Kraft","Упаковка O2 FRY M Pure Kraft (1200 шт./кор.)","80/110х54х68/111","240*310*455",1200,36,{"$f":"INDEX('[1]Прайс Д0'!$H:$H,MATCH(C164,'[1]Прайс Д0'!$C:$C,0))*140%","v":2.52},null,""]
[null,"O2 HD Pure Kraft","Упаковка O2 HD Pure Kraft (800 шт./кор.)","167/182x70/85x38","405*400*600",800,20,{"$f":"INDEX('[1]Прайс Д0'!$H:$H,MATCH(C165,'[1]Прайс Д0'!$C:$C,0))*140%","v":2.94},null,""]
[null,"O2 PILLOW Pure Kraft","Упаковка O2 PILLOW Pure Kraft (600 шт./кор.)","200x70x55","240*310*455",600,42,{"$f":"INDEX('[1]Прайс Д0'!$H:$H,MATCH(C166,'[1]Прайс Д0'!$C:$C,0))*140%","v":3.9759999999999995},null,""]
[null,"O2 TRAY 550 Pure Kraft","Упаковка O2 TRAY 550 Pure Kraft (300 шт./кор.)","110/140х110/140х42","240*310*455",300,42,{"$f":"INDEX('[1]Прайс Д0'!$H:$H,MATCH(C167,'[1]Прайс Д0'!$C:$C,0))*140%","v":3.4020000000000001},null,""]
[null,"O2 TRAY 800 Pure Kraft","Упаковка O2 TRAY 800 Pure Kraft (400 шт./кор.)","190/220х85/115х45","380*275*550",400,24,{"$f":"INDEX('[1]Прайс Д0'!$H:$H,MATCH(C168,'[1]Прайс Д0'!$C:$C,0))*140%","v":3.7659999999999996},null,""]
[null,"O2 PLATE 180  Pure Kraft","Тарелка O2 PLATE 180 Pure Kraft (900 шт./кор.)","d180","240*310*455",900,42,{"$f":"INDEX('[1]Прайс Д0'!$H:$H,MATCH(C169,'[1]Прайс Д0'!$C:$C,0))*140%","v":3.0379999999999998},null,""]
[null,"O2 PLATE 230  Pure Kraft","Тарелка O2 PLATE 230 Pure Kraft (600 шт./кор.)","d230","240*310*455",600,42,{"$f":"INDEX('[1]Прайс Д0'!$H:$H,MATCH(C170,'[1]Прайс Д0'!$C:$C,0))*140%","v":4.452},null,""]
[null,null,"СТОКОВЫЕ ПОЗИЦИИ ПЕРЕКУПНОЙ ПРОДУКЦИИ"]
[null,"OSQ STIRRER 140","Размешиватель OSQ STIRRER 140 (1000/10000 шт)","Данные зависят от поставщика и могут изменяться",null,null,null,{"$f":"INDEX('[1]Прайс Д0'!$H:$H,MATCH(C172,'[1]Прайс Д0'!$C:$C,0))*140%","v":0.46199999999999997},null,{"$f":"IF(I172*H172=0,\"\",I172*H172)","v":""}]
[null,"OSQ STIRRER 180","Размешиватель OSQ STIRRER 180 (1000/10000 шт)","Данные зависят от поставщика и могут изменяться",null,null,null,{"$f":"INDEX('[1]Прайс Д0'!$H:$H,MATCH(C173,'[1]Прайс Д0'!$C:$C,0))*140%","v":0.53199999999999992},null,{"$f":"IF(I173*H173=0,\"\",I173*H173)","v":""}]
[null,"OSQ PAPWRAP K 300","Оберточная бумага OSQ PAPWRAP KRAFT 300*300 мм (2000 шт./кор.)","Данные зависят от поставщика и могут изменяться",null,null,null,{"$f":"INDEX('[1]Прайс Д0'!$H:$H,MATCH(C174,'[1]Прайс Д0'!$C:$C,0))*140%","v":1.1759999999999999},null,""]
[null,"OSQ PAPWRAP K 400","Оберточная бумага OSQ PAPWRAP KRAFT 400*400 мм (1000 шт./кор.)","Данные зависят от поставщика и могут изменяться",null,null,null,{"$f":"INDEX('[1]Прайс Д0'!$H:$H,MATCH(C175,'[1]Прайс Д0'!$C:$C,0))*140%","v":2.198},null,""]
[null,"OSQ CarrBag TW 240 (250 шт)","Пакет OSQ CarrBag TW 240*140*280 (250 шт/кор)","Данные зависят от поставщика и могут изменяться",null,null,null,{"$f":"INDEX('[1]Прайс Д0'!$H:$H,MATCH(C176,'[1]Прайс Д0'!$C:$C,0))*140%","v":11.451999999999998},null,""]
[null,"OSQ CarrBag TW 260 (250 шт)","Пакет OSQ CarrBag TW 260*150*350 (250 шт/кор.)","Данные зависят от поставщика и могут изменяться",null,null,null,{"$f":"INDEX('[1]Прайс Д0'!$H:$H,MATCH(C177,'[1]Прайс Д0'!$C:$C,0))*140%","v":12.151999999999999},null,""]
[null,"OSQ CarrBag TW 320 (200)","Пакет OSQ CarrBag TW 320*200*370 (200 шт/кор)","Данные зависят от поставщика и могут изменяться",null,null,null,{"$f":"INDEX('[1]Прайс Д0'!$H:$H,MATCH(C178,'[1]Прайс Д0'!$C:$C,0))*140%","v":16.603999999999999},null,""]
[null,"OSQ SOUP 12W","Упаковка ECO SOUP 12W ( 250 шт./кор. )","Данные зависят от поставщика и могут изменяться",null,null,null,{"$f":"INDEX('[1]Прайс Д0'!$H:$H,MATCH(C179,'[1]Прайс Д0'!$C:$C,0))*140%","v":16.603999999999999},null,""]
[null,"OSQ SOUP 16W  ","Упаковка OSQ SOUP 16W (250 шт/кор)","Данные зависят от поставщика и могут изменяться",null,null,null,{"$f":"INDEX('[1]Прайс Д0'!$H:$H,MATCH(C180,'[1]Прайс Д0'!$C:$C,0))*140%","v":21.672000000000001},null,""]
[null,"OSQ SOUP 26C  ","Упаковка OSQ SOUP 26C (250 шт/кор)","Данные зависят от поставщика и могут изменяться",null,null,null,{"$f":"INDEX('[1]Прайс Д0'!$H:$H,MATCH(C181,'[1]Прайс Д0'!$C:$C,0))*140%","v":31.919999999999998},null,""]
[null,"OSQ SOUP 8W E  ","Упаковка OSQ SOUP ECONOM 8W (250 шт/кор)","Данные зависят от поставщика и могут изменяться",null,null,null,{"$f":"INDEX('[1]Прайс Д0'!$H:$H,MATCH(C182,'[1]Прайс Д0'!$C:$C,0))*140%","v":12.655999999999999},null,""]
[null,"OSQ SOUP 12W E  ","Упаковка OSQ SOUP ECONOM 12W (250 шт/кор)","Данные зависят от поставщика и могут изменяться",null,null,null,{"$f":"INDEX('[1]Прайс Д0'!$H:$H,MATCH(C183,'[1]Прайс Д0'!$C:$C,0))*140%","v":13.286},null,""]
[null,"OSQ SOUP 16W Е  ","Упаковка OSQ SOUP ECONOM 16W (250 шт/кор)","Данные зависят от поставщика и могут изменяться",null,null,null,{"$f":"INDEX('[1]Прайс Д0'!$H:$H,MATCH(C184,'[1]Прайс Д0'!$C:$C,0))*140%","v":17.457999999999998},null,""]
[null,"OSQ SOUP 26W Е  ","Упаковка OSQ SOUP ECONOM 26W (250 шт/кор)","Данные зависят от поставщика и могут изменяться",null,null,null,{"$f":"INDEX('[1]Прайс Д0'!$H:$H,MATCH(C185,'[1]Прайс Д0'!$C:$C,0))*140%","v":20.873999999999999},null,""]
[null,"OSQ SOUP 8С E  ","Упаковка ECO SOUP ECONOM 8С ( 250 шт./кор. )","Данные зависят от поставщика и могут изменяться",null,null,null,{"$f":"INDEX('[1]Прайс Д0'!$H:$H,MATCH(C186,'[1]Прайс Д0'!$C:$C,0))*140%","v":12.795999999999999},null,""]
[null,"OSQ SOUP 12С E   ","Упаковка OSQ SOUP ECONOM 12С (250 шт/кор)","Данные зависят от поставщика и могут изменяться",null,null,null,{"$f":"INDEX('[1]Прайс Д0'!$H:$H,MATCH(C187,'[1]Прайс Д0'!$C:$C,0))*140%","v":13.608000000000001},null,""]
[null,"OSQ SOUP 16С Е  ","Упаковка OSQ SOUP ECONOM 16С (250 шт/кор)","Данные зависят от поставщика и могут изменяться",null,null,null,{"$f":"INDEX('[1]Прайс Д0'!$H:$H,MATCH(C188,'[1]Прайс Д0'!$C:$C,0))*140%","v":18.017999999999997},null,""]
[null,"OSQ SOUP 26С Е   ","Упаковка OSQ SOUP ECONOM 26С (250 шт/кор)","Данные зависят от поставщика и могут изменяться",null,null,null,{"$f":"INDEX('[1]Прайс Д0'!$H:$H,MATCH(C189,'[1]Прайс Д0'!$C:$C,0))*140%","v":21.21},null,""]
[null,"OSQ RCONT 620 PK ","Упаковка OSQ RCONT 620 \"Pure Kraft (240 шт/кор)","Данные зависят от поставщика и могут изменяться",null,null,null,{"$f":"INDEX('[1]Прайс Д0'!$H:$H,MATCH(C190,'[1]Прайс Д0'!$C:$C,0))*140%","v":21.84},null,""]
[null,"OSQ RCONT 820 PK ","Упаковка OSQ RCONT 820 \"Pure Kraft\" (240 шт/кор)","Данные зависят от поставщика и могут изменяться",null,null,null,{"$f":"INDEX('[1]Прайс Д0'!$H:$H,MATCH(C191,'[1]Прайс Д0'!$C:$C,0))*140%","v":21.84},null,""]
[null,"OSQ RCONT 1120 PK ","Упаковка OSQ RCONT 1120 \"Pure Kraft\" (240 шт/кор)","Данные зависят от поставщика и могут изменяться",null,null,null,{"$f":"INDEX('[1]Прайс Д0'!$H:$H,MATCH(C192,'[1]Прайс Д0'!$C:$C,0))*140%","v":23.617999999999999},null,""]
[null,"OSQ RCONT 1420 PK ","Упаковка OSQ RCONT 1420 \"Pure Kraft\" (240шт/кор)","Данные зависят от поставщика и могут изменяться",null,null,null,{"$f":"INDEX('[1]Прайс Д0'!$H:$H,MATCH(C193,'[1]Прайс Д0'!$C:$C,0))*140%","v":33.459999999999994},null,""]
[null,"OSQ CUPHOLDER 2 ECONOM","Держатель для стаканов OSQ CUPHOLDER 2 ECONOM ( 150 шт./кор.)","Данные зависят от поставщика и могут изменяться",null,null,null,{"$f":"INDEX('[1]Прайс Д0'!$H:$H,MATCH(C194,'[1]Прайс Д0'!$C:$C,0))*140%","v":3.472},null,""]
[null,"OSQ CUPHOLDER 4 ECONOM","Держатель для стаканов OSQ CUPHOLDER 4 ECONOM ( 130шт./кор.)","Данные зависят от поставщика и могут изменяться",null,null,null,{"$f":"INDEX('[1]Прайс Д0'!$H:$H,MATCH(C195,'[1]Прайс Д0'!$C:$C,0))*140%","v":5.8660000000000005},null,""]
[null,"OSQ CUP 250 С","Стакан OSQ CUP 250 C (1000 шт./кор.)","Данные зависят от поставщика и могут изменяться",null,null,null,{"$f":"INDEX('[1]Прайс Д0'!$H:$H,MATCH(C196,'[1]Прайс Д0'!$C:$C,0))*140%","v":4.7319999999999993},null,""]
[null,"OSQ CUP 350 С","Стакан OSQ CUP 350 С (1000 шт./кор.)","Данные зависят от поставщика и могут изменяться",null,null,null,{"$f":"INDEX('[1]Прайс Д0'!$H:$H,MATCH(C197,'[1]Прайс Д0'!$C:$C,0))*140%","v":6.4959999999999996},null,""]
[null,"OSQ CUP 250С стакан двухслойный","Стакан двухслойный OSQ CUP 250 С (500  шт./кор.)","Данные зависят от поставщика и могут изменяться",null,null,null,{"$f":"INDEX('[1]Прайс Д0'!$H:$H,MATCH(C198,'[1]Прайс Д0'!$C:$C,0))*140%","v":7.6019999999999994},null,""]
[null,"OSQ CUP 350 С стакан двухслойный","Стакан двухслойный OSQ CUP 350 С (500 шт./кор.)","Данные зависят от поставщика и могут изменяться",null,null,null,{"$f":"INDEX('[1]Прайс Д0'!$H:$H,MATCH(C199,'[1]Прайс Д0'!$C:$C,0))*140%","v":10.29},null,""]
[null,"OSQ PIZZA 250 E22 целлюлоза","Упаковка OSQ PIZZA 250 \"Pure Kraft\" E22 (50 шт./упак.)","Данные зависят от поставщика и могут изменяться",null,null,null,{"$f":"INDEX('[1]Прайс Д0'!$H:$H,MATCH(C200,'[1]Прайс Д0'!$C:$C,0))*140%","v":16.282},null,{"$f":"IF(I200*H201=0,\"\",I200*H201)","v":""}]
[null,"OSQ PIZZA 300 E22 целлюлоза","Упаковка OSQ PIZZA 300 \"Pure Kraft\" E22 (50 шт./упак.)","Данные зависят от поставщика и могут изменяться",null,null,null,{"$f":"INDEX('[1]Прайс Д0'!$H:$H,MATCH(C201,'[1]Прайс Д0'!$C:$C,0))*140%","v":19.012},null,{"$f":"IF(I201*H200=0,\"\",I201*H200)","v":""}]
[null,"OSQ PIZZA 330 E22 целлюлоза","Упаковка OSQ PIZZA 330 \"Pure Kraft\" E22 (50 шт./упак.)","Данные зависят от поставщика и могут изменяться",null,null,null,{"$f":"INDEX('[1]Прайс Д0'!$H:$H,MATCH(C202,'[1]Прайс Д0'!$C:$C,0))*140%","v":23.253999999999998},null,{"$f":"IF(I202*H202=0,\"\",I202*H202)","v":""}]
[null,"OSQ PIZZA 400 B22 целлюлоза","Упаковка OSQ PIZZA 400 \"Pure Kraft\" B22 (50 шт./упак.)","Данные зависят от поставщика и могут изменяться",null,null,null,{"$f":"INDEX('[1]Прайс Д0'!$H:$H,MATCH(C203,'[1]Прайс Д0'!$C:$C,0))*140%","v":34.299999999999997},null,""]
[null,"OSQ SAND BAG L","Упаковка OSQ SANDWICH BAG L (2000 шт./кор.)","Данные зависят от поставщика и могут изменяться",null,null,null,{"$f":"INDEX('[1]Прайс Д0'!$H:$H,MATCH(C204,'[1]Прайс Д0'!$C:$C,0))*140%","v":1.0499999999999998},null,""]
[null,"SOUS 30 OSQ","Упаковка OSQ SOUS 30 (1920 шт./кор. )","Данные зависят от поставщика и могут изменяться",null,null,null,{"$f":"INDEX('[1]Прайс Д0'!$H:$H,MATCH(C205,'[1]Прайс Д0'!$C:$C,0))*140%","v":2.38},null,""]
[null,"SOUS 50 OSQ","Упаковка OSQ SOUS 50 (1200 шт./кор )","Данные зависят от поставщика и могут изменяться",null,null,null,{"$f":"INDEX('[1]Прайс Д0'!$H:$H,MATCH(C206,'[1]Прайс Д0'!$C:$C,0))*140%","v":2.8419999999999996},null,""]
[null,"SOUS 80 OSQ","Упаковка OSQ SOUS 80 ( 960 шт./кор. )","Данные зависят от поставщика и могут изменяться",null,null,null,{"$f":"INDEX('[1]Прайс Д0'!$H:$H,MATCH(C207,'[1]Прайс Д0'!$C:$C,0))*140%","v":3.7099999999999995},null,""]
[null,null,"Позиции OSQ под заказ"]
[null,"OSQ MUF 3","Упаковка OSQ MUF 3 ( 150 шт./кор.) - коробка","250x100x100","240*310*455",150,42,{"$f":"INDEX('[1]Прайс Д0'!$H:$H,MATCH(C209,'[1]Прайс Д0'!$C:$C,0))*140%","v":32.089574999999996},null,""]
[null,null,"Упаковка OSQ MUF 3 (150 шт./кор.)  - ложемент",null,null,null,null,{"$f":"INDEX('[1]Прайс Д0'!$H:$H,MATCH(C210,'[1]Прайс Д0'!$C:$C,0))*140%","v":0},null,""]
[null,"CupHolder double","Держатель для стаканов OSQ CUPHOLDER double (450 шт./кор.)","180x90x50","240*310*455",450,42,{"$f":"INDEX('[1]Прайс Д0'!$H:$H,MATCH(C211,'[1]Прайс Д0'!$C:$C,0))*140%","v":5.8239999999999998},null,""]
[null,"CupHolder family","Держатель для стаканов OSQ CUPHOLDER family (250 шт./кор.)","180x180x50","240*310*455",250,42,{"$f":"INDEX('[1]Прайс Д0'!$H:$H,MATCH(C212,'[1]Прайс Д0'!$C:$C,0))*140%","v":10.192},null,{"$f":"IF(I212*H212=0,\"\",I212*H212)","v":""}]
[null,"CupHolder  triple","Держатель для стаканов OSQ CUPHOLDER triple (300 шт./кор.)","263x90x50","240*310*455",300,42,{"$f":"INDEX('[1]Прайс Д0'!$H:$H,MATCH(C213,'[1]Прайс Д0'!$C:$C,0))*140%","v":8.9740000000000002},null,""]
[null,"OSQ OpSalad 350 BE без крышки","Упаковка OSQ OpSalad 350 Black Edition без крышки (900 шт./кор.)","100/121x85/106x55","405*400*600",900,16,{"$f":"INDEX('[1]Прайс Д0'!$H:$H,MATCH(C214,'[1]Прайс Д0'!$C:$C,0))*140%","v":6.1040000000000001},null,""]
[null,"OSQ OpSalad 450 BE без крышки","Упаковка OSQ OpSalad 450 Black Edition без крышки (800 шт./кор.)","114/144x82/96x55","405*400*600",800,16,{"$f":"INDEX('[1]Прайс Д0'!$H:$H,MATCH(C215,'[1]Прайс Д0'!$C:$C,0))*140%","v":6.0619999999999994},null,""]
[null,"OSQ OpSand 60 BE","Упаковка ECO OpSandwich 60 Black Edition (700 шт./кор.)","130x130x60","240*310*455",700,42,{"$f":"INDEX('[1]Прайс Д0'!$H:$H,MATCH(C216,'[1]Прайс Д0'!$C:$C,0))*140%","v":7.3079999999999989},null,""]
[null,"SealPack Lid 350","Крышка OSQ SealPack 350 (300 шт./кор.)","141х141х12,5","240*310*455",300,42,{"$f":"INDEX('[1]Прайс Д0'!$H:$H,MATCH(C217,'[1]Прайс Д0'!$C:$C,0))*140%","v":5.8100000000000005},null,{"$f":"IF(I217*H217=0,\"\",I217*H217)","v":""}]
[null,"SealPack Lid 1000","Крышка для упаковки ECO SealPack 1000 (234*183*12,5)","234х183х12,5","405*400*600",800,16,{"$f":"INDEX('[1]Прайс Д0'!$H:$H,MATCH(C218,'[1]Прайс Д0'!$C:$C,0))*140%","v":10.821999999999999}]
[null,"OSQ UniBox","Упаковка OSQ UniBox (300 шт./кор.)","350x80x60","380*275*550",300,24,{"$f":"INDEX('[1]Прайс Д0'!$H:$H,MATCH(C219,'[1]Прайс Д0'!$C:$C,0))*140%","v":26.123999999999999},null,{"$f":"IF(I219*H219=0,\"\",I219*H219)","v":""}]
[null,null,null,null,null,null,null,null,null,{"$f":"SUM(J10:J219)","v":0}]